BEGIN:VCALENDAR
VERSION:2.0
PRODID:-//Turkish Community Centre - ECPv6.15.20//NONSGML v1.0//EN
CALSCALE:GREGORIAN
METHOD:PUBLISH
X-WR-CALNAME:Turkish Community Centre
X-ORIGINAL-URL:https://turkishcommunitycentre.org
X-WR-CALDESC:Turkish Community Centre için etkinlikler
REFRESH-INTERVAL;VALUE=DURATION:PT1H
X-Robots-Tag:noindex
X-PUBLISHED-TTL:PT1H
BEGIN:VTIMEZONE
TZID:America/Toronto
BEGIN:DAYLIGHT
TZOFFSETFROM:-0500
TZOFFSETTO:-0400
TZNAME:EDT
DTSTART:20230312T070000
END:DAYLIGHT
BEGIN:STANDARD
TZOFFSETFROM:-0400
TZOFFSETTO:-0500
TZNAME:EST
DTSTART:20231105T060000
END:STANDARD
BEGIN:DAYLIGHT
TZOFFSETFROM:-0500
TZOFFSETTO:-0400
TZNAME:EDT
DTSTART:20240310T070000
END:DAYLIGHT
BEGIN:STANDARD
TZOFFSETFROM:-0400
TZOFFSETTO:-0500
TZNAME:EST
DTSTART:20241103T060000
END:STANDARD
BEGIN:DAYLIGHT
TZOFFSETFROM:-0500
TZOFFSETTO:-0400
TZNAME:EDT
DTSTART:20250309T070000
END:DAYLIGHT
BEGIN:STANDARD
TZOFFSETFROM:-0400
TZOFFSETTO:-0500
TZNAME:EST
DTSTART:20251102T060000
END:STANDARD
END:VTIMEZONE
BEGIN:VEVENT
DTSTART;TZID=America/Toronto:20241006T140000
DTEND;TZID=America/Toronto:20241006T160000
DTSTAMP:20260425T211301
CREATED:20250925T005356Z
LAST-MODIFIED:20250925T010023Z
UID:4310-1728223200-1728230400@turkishcommunitycentre.org
SUMMARY:Toronto'da İş Arama Semineri
DESCRIPTION:Yeni gelen Türkçe konuşan göçmenler için her yıl düzenlediğimiz bilgilendirme seminerimizin bu yılki konuğu Alev Hinçer. Alev Hinçer\, 35 yılı aşkın süredir Kanada’da insan kaynakları alanında çalışmakta. Engin tecrübelerini bizlerle paylaşacağı için çok heyecanlıyız. Heyecanımıza ortak olmanız ve iş arama sürecinizi daha iyi yönlendirebilmeniz için sizi etkinliğimize davet ediyoruz.
URL:https://turkishcommunitycentre.org/event/torontoda-is-arama-semineri/
LOCATION:Toronto Public Library\, Northern District Branch\, 40 orchard view blvd\, gwen liu meeting room 200
ATTACH;FMTTYPE=image/jpeg:https://turkishcommunitycentre.org/wp-content/uploads/2025/09/IMG_9346.jpg
END:VEVENT
END:VCALENDAR