BEGIN:VCALENDAR
VERSION:2.0
PRODID:-//Turkish Community Centre - ECPv6.15.20//NONSGML v1.0//EN
CALSCALE:GREGORIAN
METHOD:PUBLISH
X-ORIGINAL-URL:https://turkishcommunitycentre.org
X-WR-CALDESC:Turkish Community Centre için etkinlikler
REFRESH-INTERVAL;VALUE=DURATION:PT1H
X-Robots-Tag:noindex
X-PUBLISHED-TTL:PT1H
BEGIN:VTIMEZONE
TZID:America/Toronto
BEGIN:DAYLIGHT
TZOFFSETFROM:-0500
TZOFFSETTO:-0400
TZNAME:EDT
DTSTART:20230312T070000
END:DAYLIGHT
BEGIN:STANDARD
TZOFFSETFROM:-0400
TZOFFSETTO:-0500
TZNAME:EST
DTSTART:20231105T060000
END:STANDARD
BEGIN:DAYLIGHT
TZOFFSETFROM:-0500
TZOFFSETTO:-0400
TZNAME:EDT
DTSTART:20240310T070000
END:DAYLIGHT
BEGIN:STANDARD
TZOFFSETFROM:-0400
TZOFFSETTO:-0500
TZNAME:EST
DTSTART:20241103T060000
END:STANDARD
BEGIN:DAYLIGHT
TZOFFSETFROM:-0500
TZOFFSETTO:-0400
TZNAME:EDT
DTSTART:20250309T070000
END:DAYLIGHT
BEGIN:STANDARD
TZOFFSETFROM:-0400
TZOFFSETTO:-0500
TZNAME:EST
DTSTART:20251102T060000
END:STANDARD
END:VTIMEZONE
BEGIN:VEVENT
DTSTART;TZID=America/Toronto:20241019T140000
DTEND;TZID=America/Toronto:20241019T160000
DTSTAMP:20260425T211954
CREATED:20250925T005733Z
LAST-MODIFIED:20250925T005733Z
UID:4314-1729346400-1729353600@turkishcommunitycentre.org
SUMMARY:Gönüllülerimize Yönelik Bilgilendirme Semineri: Göç\, Entegrasyon ve Teknoloji
DESCRIPTION:Bu seminerimizde Cansu Ekmekçioğlu\, doktora tezinin bulgularını paylaşacak. Yeni gelenlere yönlendirme hizmeti veren gönüllülerimizin öncelikli olarak yararlanacağı oturum Türkçe ve halka açıktır\, ilgilenenleri bekleriz.
URL:https://turkishcommunitycentre.org/event/gonullulerimize-yonelik-bilgilendirme-semineri-goc-entegrasyon-ve-teknoloji/
LOCATION:Toronto Public Library\, Northern District Branch\, 40 orchard view blvd\, gwen liu meeting room 200
ATTACH;FMTTYPE=image/jpeg:https://turkishcommunitycentre.org/wp-content/uploads/2025/09/IMG_9355.jpg
END:VEVENT
END:VCALENDAR