BEGIN:VCALENDAR
VERSION:2.0
PRODID:-//Turkish Community Centre - ECPv6.15.20//NONSGML v1.0//EN
CALSCALE:GREGORIAN
METHOD:PUBLISH
X-WR-CALNAME:Turkish Community Centre
X-ORIGINAL-URL:https://turkishcommunitycentre.org
X-WR-CALDESC:Turkish Community Centre için etkinlikler
REFRESH-INTERVAL;VALUE=DURATION:PT1H
X-Robots-Tag:noindex
X-PUBLISHED-TTL:PT1H
BEGIN:VTIMEZONE
TZID:America/Toronto
BEGIN:DAYLIGHT
TZOFFSETFROM:-0500
TZOFFSETTO:-0400
TZNAME:EDT
DTSTART:20240310T070000
END:DAYLIGHT
BEGIN:STANDARD
TZOFFSETFROM:-0400
TZOFFSETTO:-0500
TZNAME:EST
DTSTART:20241103T060000
END:STANDARD
BEGIN:DAYLIGHT
TZOFFSETFROM:-0500
TZOFFSETTO:-0400
TZNAME:EDT
DTSTART:20250309T070000
END:DAYLIGHT
BEGIN:STANDARD
TZOFFSETFROM:-0400
TZOFFSETTO:-0500
TZNAME:EST
DTSTART:20251102T060000
END:STANDARD
BEGIN:DAYLIGHT
TZOFFSETFROM:-0500
TZOFFSETTO:-0400
TZNAME:EDT
DTSTART:20260308T070000
END:DAYLIGHT
BEGIN:STANDARD
TZOFFSETFROM:-0400
TZOFFSETTO:-0500
TZNAME:EST
DTSTART:20261101T060000
END:STANDARD
END:VTIMEZONE
BEGIN:VEVENT
DTSTART;VALUE=DATE:20250503
DTEND;VALUE=DATE:20250504
DTSTAMP:20260425T115731
CREATED:20250924T161812Z
LAST-MODIFIED:20251004T160848Z
UID:4282-1746230400-1746316799@turkishcommunitycentre.org
SUMMARY:Ulusal Egemenlik ve Çocuk Bayramı Kutlaması
DESCRIPTION:3 Mayıs 2025 Cumartesi günü Toronto’nun kalbi Nathan Phillips Square’de gerçekleşecek International Children’s Day – Multicultural Dance and Art Festival’de çocuklar farklı kültürlerin dans ve sanat performanslarıyla bir araya geliyor; Turkish Society of Canada’nın önderliğinde düzenlenen bu renkli etkinlikte\, çocukların neşesi ve çokkültürlü dostluk ortamı hepimizi buluşturacak.
URL:https://turkishcommunitycentre.org/event/ulusal-egemenlik-ve-cocuk-bayrami/
LOCATION:Nathan Phillips Square\, 100 Queen St W\, Toronto\, Ontario\, M5H 2N3
ATTACH;FMTTYPE=image/png:https://turkishcommunitycentre.org/wp-content/uploads/2025/09/Screenshot-2025-10-04-at-12.07.07-PM.png
END:VEVENT
END:VCALENDAR