BEGIN:VCALENDAR
VERSION:2.0
PRODID:-//Turkish Community Centre - ECPv6.15.20//NONSGML v1.0//EN
CALSCALE:GREGORIAN
METHOD:PUBLISH
X-ORIGINAL-URL:https://turkishcommunitycentre.org
X-WR-CALDESC:Turkish Community Centre için etkinlikler
REFRESH-INTERVAL;VALUE=DURATION:PT1H
X-Robots-Tag:noindex
X-PUBLISHED-TTL:PT1H
BEGIN:VTIMEZONE
TZID:America/Toronto
BEGIN:DAYLIGHT
TZOFFSETFROM:-0500
TZOFFSETTO:-0400
TZNAME:EDT
DTSTART:20250309T070000
END:DAYLIGHT
BEGIN:STANDARD
TZOFFSETFROM:-0400
TZOFFSETTO:-0500
TZNAME:EST
DTSTART:20251102T060000
END:STANDARD
BEGIN:DAYLIGHT
TZOFFSETFROM:-0500
TZOFFSETTO:-0400
TZNAME:EDT
DTSTART:20260308T070000
END:DAYLIGHT
BEGIN:STANDARD
TZOFFSETFROM:-0400
TZOFFSETTO:-0500
TZNAME:EST
DTSTART:20261101T060000
END:STANDARD
BEGIN:DAYLIGHT
TZOFFSETFROM:-0500
TZOFFSETTO:-0400
TZNAME:EDT
DTSTART:20270314T070000
END:DAYLIGHT
BEGIN:STANDARD
TZOFFSETFROM:-0400
TZOFFSETTO:-0500
TZNAME:EST
DTSTART:20271107T060000
END:STANDARD
END:VTIMEZONE
BEGIN:VEVENT
DTSTART;TZID=America/Toronto:20260306T183000
DTEND;TZID=America/Toronto:20260306T233000
DTSTAMP:20260424T173725
CREATED:20251212T192721Z
LAST-MODIFIED:20260222T054150Z
UID:4796-1772821800-1772839800@turkishcommunitycentre.org
SUMMARY:9. Kadınlar Günü Yemeği
DESCRIPTION:Gönüllülerinin büyük çoğunluğu kadınlardan oluşan Türk Toplum Merkezi yararına düzenlenen 9. Kadınlar Günü Yemeği\, 6 Mart 2026 Cuma akşamı 18:30–23:30 saatleri arasında\, Toronto’nun en güzel salonlarından The Eglinton Grand’de gerçekleşecek. \nCanlı müzik\, lezzetli yemekler ve sürpriz hediyeli çekilişlerle dolu bu özel gecede hep birlikte olmak\, dayanışmayı büyütmek istiyoruz. Ne kadar çok olursak\, o kadar güzel! \nBiletler 150 $\, 22 Şubat’a kadar erken bilet fiyatı 130 $’dır. \nDetaylar ve iletişim bilgileri için afişimize göz atabilirsiniz. \n \n  \n  \n  \n  \n  \n  \n  \n  \n  \n  \n  \n  \n  \n  \n  \n  \n  \n  \n  \n  \nMenü \nSalata \nMevsim yeşillikleri\, kuru meyveler \nşekerlenmiş ceviz ve narenciye notaları \nhaşhaşlı özel sos ile \nAna yemek \nDemi-glace soslu dana bonfile \nşefin imza sebzeleri ve patates eşliğinde \nTatlı \nÜçlü sorbe seçkisi \nmevsim aromalarıyla \nİçecekler \nÇay\, kahve\, meşrubat ve meyve suları dahildir. \nDiğer içecekler bar bölümünden temin edilebilir. \nNot \nRamazan boyunca\, akşam yemeği öncesinde fuayede çorba ikramı vardır. \nVejetaryen seçenek\, etkinlikten önce talep edilmesi hâlinde hazırlanabilir. \nTemassız ödeme geçerlidir. \nMüzik afişimiz aşağıdadır. \n \n  \nSponsorlarımız ve Donörlerimiz
URL:https://turkishcommunitycentre.org/event/9-kadinlar-gunu-yemegi/
LOCATION:Eglinton Grand\, 400 Eglinton Ave W\, Toronto\, ON\, Canada
ATTACH;FMTTYPE=image/png:https://turkishcommunitycentre.org/wp-content/uploads/2025/12/Screenshot-2026-02-19-at-9.31.42-PM.png
END:VEVENT
END:VCALENDAR