BEGIN:VCALENDAR
VERSION:2.0
PRODID:-//Turkish Community Centre - ECPv6.15.20//NONSGML v1.0//EN
CALSCALE:GREGORIAN
METHOD:PUBLISH
X-WR-CALNAME:Turkish Community Centre
X-ORIGINAL-URL:https://turkishcommunitycentre.org
X-WR-CALDESC:Turkish Community Centre için etkinlikler
REFRESH-INTERVAL;VALUE=DURATION:PT1H
X-Robots-Tag:noindex
X-PUBLISHED-TTL:PT1H
BEGIN:VTIMEZONE
TZID:America/Toronto
BEGIN:DAYLIGHT
TZOFFSETFROM:-0500
TZOFFSETTO:-0400
TZNAME:EDT
DTSTART:20240310T070000
END:DAYLIGHT
BEGIN:STANDARD
TZOFFSETFROM:-0400
TZOFFSETTO:-0500
TZNAME:EST
DTSTART:20241103T060000
END:STANDARD
BEGIN:DAYLIGHT
TZOFFSETFROM:-0500
TZOFFSETTO:-0400
TZNAME:EDT
DTSTART:20250309T070000
END:DAYLIGHT
BEGIN:STANDARD
TZOFFSETFROM:-0400
TZOFFSETTO:-0500
TZNAME:EST
DTSTART:20251102T060000
END:STANDARD
BEGIN:DAYLIGHT
TZOFFSETFROM:-0500
TZOFFSETTO:-0400
TZNAME:EDT
DTSTART:20260308T070000
END:DAYLIGHT
BEGIN:STANDARD
TZOFFSETFROM:-0400
TZOFFSETTO:-0500
TZNAME:EST
DTSTART:20261101T060000
END:STANDARD
END:VTIMEZONE
BEGIN:VEVENT
DTSTART;TZID=America/Toronto:20250427T140000
DTEND;TZID=America/Toronto:20250427T160000
DTSTAMP:20260425T115742
CREATED:20250924T042722Z
LAST-MODIFIED:20250924T052942Z
UID:4212-1745762400-1745769600@turkishcommunitycentre.org
SUMMARY:Aile Hukuku Semineri
DESCRIPTION:Avukat Yankı Gür’ün aile hukuku üzerine merak ettiklerimizi anlatacağı seminer her zaman olduğu gibi halka açık ve ücretsizdir. Kayıt gerektirmez\, mekanda ücretli ve ücretsiz park alanı mevcuttur\, atıştırmalık servis edilecektir. Instagram üzerinden canlı yayınla seminerimizi yayınlanacaktır uzakta oturanlar ve gelemeyenler için.
URL:https://turkishcommunitycentre.org/event/aile-hukuku-semineri/
LOCATION:North Toronto Memorial Community Centre\, 200 egligton avenue w\, Toronto
ATTACH;FMTTYPE=image/jpeg:https://turkishcommunitycentre.org/wp-content/uploads/2025/09/IMG_9320.jpg
END:VEVENT
END:VCALENDAR