BEGIN:VCALENDAR
VERSION:2.0
PRODID:-//Turkish Community Centre - ECPv6.15.20//NONSGML v1.0//EN
CALSCALE:GREGORIAN
METHOD:PUBLISH
X-WR-CALNAME:Turkish Community Centre
X-ORIGINAL-URL:https://turkishcommunitycentre.org
X-WR-CALDESC:Turkish Community Centre için etkinlikler
REFRESH-INTERVAL;VALUE=DURATION:PT1H
X-Robots-Tag:noindex
X-PUBLISHED-TTL:PT1H
BEGIN:VTIMEZONE
TZID:America/Toronto
BEGIN:DAYLIGHT
TZOFFSETFROM:-0500
TZOFFSETTO:-0400
TZNAME:EDT
DTSTART:20240310T070000
END:DAYLIGHT
BEGIN:STANDARD
TZOFFSETFROM:-0400
TZOFFSETTO:-0500
TZNAME:EST
DTSTART:20241103T060000
END:STANDARD
BEGIN:DAYLIGHT
TZOFFSETFROM:-0500
TZOFFSETTO:-0400
TZNAME:EDT
DTSTART:20250309T070000
END:DAYLIGHT
BEGIN:STANDARD
TZOFFSETFROM:-0400
TZOFFSETTO:-0500
TZNAME:EST
DTSTART:20251102T060000
END:STANDARD
BEGIN:DAYLIGHT
TZOFFSETFROM:-0500
TZOFFSETTO:-0400
TZNAME:EDT
DTSTART:20260308T070000
END:DAYLIGHT
BEGIN:STANDARD
TZOFFSETFROM:-0400
TZOFFSETTO:-0500
TZNAME:EST
DTSTART:20261101T060000
END:STANDARD
END:VTIMEZONE
BEGIN:VEVENT
DTSTART;TZID=America/Toronto:20250609T100000
DTEND;TZID=America/Toronto:20250609T170000
DTSTAMP:20260425T090323
CREATED:20250924T155742Z
LAST-MODIFIED:20250924T164854Z
UID:4270-1749463200-1749488400@turkishcommunitycentre.org
SUMMARY:Toronto Belediyesi’nde Şehir Sakinleri ve Ailelere Yönelik Fuara Katılım
DESCRIPTION:“Aileler ve Toronto Sakinleri için North York Ajans Fuarı”\, 9 Haziran 2025’te North York Civic Centre’da gerçekleşmiş bir etkinliktir. Bu etkinlikte ailelere hukuk\, sağlık\, konut ve uyum desteği gibi çeşitli toplumsal hizmetlere erişim sağlanması amaçlanmaktadır. Fuar\, Toronto Belediyesi tarafından düzenlenmiş olup toplumsal hizmet bilgileri\, yaşam becerileri ve bilgilendirme oturumları sunarak\, sakinlerin topluluk içindeki kaynaklarla bağlantı kurmasını hedeflemiştir.
URL:https://turkishcommunitycentre.org/event/toronto-belediyesinde-sehir-sakinleri-ve-ailelere-yonelik-fuara-katilim/
LOCATION:North York Civic Centre\, 5100 Yonge St\, North York\, Toronto\, Ontario\, M2N 5V7
ATTACH;FMTTYPE=image/jpeg:https://turkishcommunitycentre.org/wp-content/uploads/2025/09/8cfec8922d850ad3c232396f8edd4a29-scaled.jpeg
END:VEVENT
END:VCALENDAR