BEGIN:VCALENDAR
VERSION:2.0
PRODID:-//Turkish Community Centre - ECPv6.15.20//NONSGML v1.0//EN
CALSCALE:GREGORIAN
METHOD:PUBLISH
X-WR-CALNAME:Turkish Community Centre
X-ORIGINAL-URL:https://turkishcommunitycentre.org
X-WR-CALDESC:Turkish Community Centre için etkinlikler
REFRESH-INTERVAL;VALUE=DURATION:PT1H
X-Robots-Tag:noindex
X-PUBLISHED-TTL:PT1H
BEGIN:VTIMEZONE
TZID:America/Toronto
BEGIN:DAYLIGHT
TZOFFSETFROM:-0500
TZOFFSETTO:-0400
TZNAME:EDT
DTSTART:20240310T070000
END:DAYLIGHT
BEGIN:STANDARD
TZOFFSETFROM:-0400
TZOFFSETTO:-0500
TZNAME:EST
DTSTART:20241103T060000
END:STANDARD
BEGIN:DAYLIGHT
TZOFFSETFROM:-0500
TZOFFSETTO:-0400
TZNAME:EDT
DTSTART:20250309T070000
END:DAYLIGHT
BEGIN:STANDARD
TZOFFSETFROM:-0400
TZOFFSETTO:-0500
TZNAME:EST
DTSTART:20251102T060000
END:STANDARD
BEGIN:DAYLIGHT
TZOFFSETFROM:-0500
TZOFFSETTO:-0400
TZNAME:EDT
DTSTART:20260308T070000
END:DAYLIGHT
BEGIN:STANDARD
TZOFFSETFROM:-0400
TZOFFSETTO:-0500
TZNAME:EST
DTSTART:20261101T060000
END:STANDARD
END:VTIMEZONE
BEGIN:VEVENT
DTSTART;TZID=America/Toronto:20251019T020000
DTEND;TZID=America/Toronto:20251019T160000
DTSTAMP:20260424T235104
CREATED:20251007T224654Z
LAST-MODIFIED:20251009T005635Z
UID:4565-1760839200-1760889600@turkishcommunitycentre.org
SUMMARY:Finansal Güvence and Farkındalık 101
DESCRIPTION:19 Ekim Pazar günü saat 14:00’te North Toronto Memorial Community Centre’da gerçekleşecek ücretsiz seminerimize davetlisiniz. Başak Köksal (Life & Health Insurance Advisor) ile finansal güvence ve farkındalık konularını konuşacağız. Kendisinin faydalandığı ve gerek finansal güvence\, gerek hayatın diğer alanlarında olsun farkındalığımızı artıracak araçlardan biri olan Transformal Nefes tekniği ile de Demet Ergin Boran ve Ece Aksungur liderliğinde tanışacağız. Etkinlik dili Türkçe olup\, atıştırmalık ikram edilecektir.
URL:https://turkishcommunitycentre.org/event/finansal-guvence-and-farkindalik-101/
LOCATION:North Toronto Memorial Community Centre\, 200 egligton avenue w\, Toronto
ATTACH;FMTTYPE=image/png:https://turkishcommunitycentre.org/wp-content/uploads/2025/10/Screenshot-2025-10-07-at-6.45.12-PM.png
END:VEVENT
END:VCALENDAR