BEGIN:VCALENDAR
VERSION:2.0
PRODID:-//Turkish Community Centre - ECPv6.15.20//NONSGML v1.0//EN
CALSCALE:GREGORIAN
METHOD:PUBLISH
X-WR-CALNAME:Turkish Community Centre
X-ORIGINAL-URL:https://turkishcommunitycentre.org
X-WR-CALDESC:Turkish Community Centre için etkinlikler
REFRESH-INTERVAL;VALUE=DURATION:PT1H
X-Robots-Tag:noindex
X-PUBLISHED-TTL:PT1H
BEGIN:VTIMEZONE
TZID:America/Toronto
BEGIN:DAYLIGHT
TZOFFSETFROM:-0500
TZOFFSETTO:-0400
TZNAME:EDT
DTSTART:20250309T070000
END:DAYLIGHT
BEGIN:STANDARD
TZOFFSETFROM:-0400
TZOFFSETTO:-0500
TZNAME:EST
DTSTART:20251102T060000
END:STANDARD
BEGIN:DAYLIGHT
TZOFFSETFROM:-0500
TZOFFSETTO:-0400
TZNAME:EDT
DTSTART:20260308T070000
END:DAYLIGHT
BEGIN:STANDARD
TZOFFSETFROM:-0400
TZOFFSETTO:-0500
TZNAME:EST
DTSTART:20261101T060000
END:STANDARD
BEGIN:DAYLIGHT
TZOFFSETFROM:-0500
TZOFFSETTO:-0400
TZNAME:EDT
DTSTART:20270314T070000
END:DAYLIGHT
BEGIN:STANDARD
TZOFFSETFROM:-0400
TZOFFSETTO:-0500
TZNAME:EST
DTSTART:20271107T060000
END:STANDARD
END:VTIMEZONE
BEGIN:VEVENT
DTSTART;TZID=America/Toronto:20260604T190000
DTEND;TZID=America/Toronto:20260604T200000
DTSTAMP:20260424T173329
CREATED:20260414T202543Z
LAST-MODIFIED:20260419T034107Z
UID:5070-1780599600-1780603200@turkishcommunitycentre.org
SUMMARY:Enerji Tasarrufu Atölyesi
DESCRIPTION:Kambo Energy Group’un Empower Me® programı\, Kanada’da hizmet verdiği farklı ve çok dilli topluluklar için tasarlanmış ve bu topluluklar tarafından yürütülen tek enerji eğitimi girişimidir. Birçok ödül kazanan bu program\, toplulukları programın tasarım ve uygulanma sürecine dahil ederek dil ve güven engellerini aşmakta\, böylece hem topluluklara hem de destekçilere fayda sağlayan\, ihtiyaca uygun çözümlerin birlikte geliştirilmesine olanak tanımaktadır. Empower Me\, 13 yıldır British Columbia\, Alberta ve Washington Eyaleti’ndeki hizmete yeterince erişemeyen haneleri temel enerji ve fatura bilgileriyle buluşturmaktadır. \nSöz konusu ücretsiz atölye\, Büyük Toronto ve Hamilton bölgesindeki katılımcılara evde enerji kullanımını azaltıp\, aylık faturalarını düşürmeleri için verimli ve sürdürülebilir yaşama yönelik pratik öneriler sunacaktır.
URL:https://turkishcommunitycentre.org/event/enerji-tasarrufu-atolyesi/
ATTACH;FMTTYPE=image/jpeg:https://turkishcommunitycentre.org/wp-content/uploads/2026/04/WhatsApp-Image-2026-04-18-at-23.39.41.jpeg
END:VEVENT
END:VCALENDAR