BEGIN:VCALENDAR
VERSION:2.0
PRODID:-//Turkish Community Centre - ECPv6.15.20//NONSGML v1.0//EN
CALSCALE:GREGORIAN
METHOD:PUBLISH
X-ORIGINAL-URL:https://turkishcommunitycentre.org/?lang=en
X-WR-CALDESC:Events for Turkish Community Centre
REFRESH-INTERVAL;VALUE=DURATION:PT1H
X-Robots-Tag:noindex
X-PUBLISHED-TTL:PT1H
BEGIN:VTIMEZONE
TZID:America/Toronto
BEGIN:DAYLIGHT
TZOFFSETFROM:-0500
TZOFFSETTO:-0400
TZNAME:EDT
DTSTART:20230312T070000
END:DAYLIGHT
BEGIN:STANDARD
TZOFFSETFROM:-0400
TZOFFSETTO:-0500
TZNAME:EST
DTSTART:20231105T060000
END:STANDARD
BEGIN:DAYLIGHT
TZOFFSETFROM:-0500
TZOFFSETTO:-0400
TZNAME:EDT
DTSTART:20240310T070000
END:DAYLIGHT
BEGIN:STANDARD
TZOFFSETFROM:-0400
TZOFFSETTO:-0500
TZNAME:EST
DTSTART:20241103T060000
END:STANDARD
BEGIN:DAYLIGHT
TZOFFSETFROM:-0500
TZOFFSETTO:-0400
TZNAME:EDT
DTSTART:20250309T070000
END:DAYLIGHT
BEGIN:STANDARD
TZOFFSETFROM:-0400
TZOFFSETTO:-0500
TZNAME:EST
DTSTART:20251102T060000
END:STANDARD
END:VTIMEZONE
BEGIN:VEVENT
DTSTART;TZID=America/Toronto:20241103T140000
DTEND;TZID=America/Toronto:20241103T160000
DTSTAMP:20260425T212356
CREATED:20251004T021313Z
LAST-MODIFIED:20251004T021313Z
UID:4460-1730642400-1730649600@turkishcommunitycentre.org
SUMMARY:Republic of Turkey 101st Anniversary Celebration and Day of Commemoration of Atatürk
DESCRIPTION:We are organizing a special Republic Day celebration and Atatürk Commemoration Day for children in Toronto. Let’s remember our national anthems together — we look forward to seeing you with your children.
URL:https://turkishcommunitycentre.org/event/republic-of-turkey-101st-anniversary-celebration-and-day-of-commemoration-of-ataturk/?lang=en
LOCATION:265 Ridley Blvd. Party Room Avenue Road & Wilson Avenue
ATTACH;FMTTYPE=image/png:https://turkishcommunitycentre.org/wp-content/uploads/2025/10/ataturk.png
END:VEVENT
END:VCALENDAR