BEGIN:VCALENDAR
VERSION:2.0
PRODID:-//Turkish Community Centre - ECPv6.15.20//NONSGML v1.0//EN
CALSCALE:GREGORIAN
METHOD:PUBLISH
X-ORIGINAL-URL:https://turkishcommunitycentre.org/?lang=en
X-WR-CALDESC:Events for Turkish Community Centre
REFRESH-INTERVAL;VALUE=DURATION:PT1H
X-Robots-Tag:noindex
X-PUBLISHED-TTL:PT1H
BEGIN:VTIMEZONE
TZID:America/Toronto
BEGIN:DAYLIGHT
TZOFFSETFROM:-0500
TZOFFSETTO:-0400
TZNAME:EDT
DTSTART:20240310T070000
END:DAYLIGHT
BEGIN:STANDARD
TZOFFSETFROM:-0400
TZOFFSETTO:-0500
TZNAME:EST
DTSTART:20241103T060000
END:STANDARD
BEGIN:DAYLIGHT
TZOFFSETFROM:-0500
TZOFFSETTO:-0400
TZNAME:EDT
DTSTART:20250309T070000
END:DAYLIGHT
BEGIN:STANDARD
TZOFFSETFROM:-0400
TZOFFSETTO:-0500
TZNAME:EST
DTSTART:20251102T060000
END:STANDARD
BEGIN:DAYLIGHT
TZOFFSETFROM:-0500
TZOFFSETTO:-0400
TZNAME:EDT
DTSTART:20260308T070000
END:DAYLIGHT
BEGIN:STANDARD
TZOFFSETFROM:-0400
TZOFFSETTO:-0500
TZNAME:EST
DTSTART:20261101T060000
END:STANDARD
END:VTIMEZONE
BEGIN:VEVENT
DTSTART;TZID=America/Toronto:20250427T140000
DTEND;TZID=America/Toronto:20250427T160000
DTSTAMP:20260425T144124
CREATED:20251004T024416Z
LAST-MODIFIED:20251004T154232Z
UID:4478-1745762400-1745769600@turkishcommunitycentre.org
SUMMARY:Family Law-Seminar
DESCRIPTION:The seminar\, where lawyer Yankı Gür will discuss common questions about family law\, is open to the public and free of charge\, as always. No registration is required. Both free and paid parking are available at the venue\, and light refreshments will be served. The seminar will also be streamed live on Instagram for those who live far away or are unable to attend in person.
URL:https://turkishcommunitycentre.org/event/family-law-seminar/?lang=en
ATTACH;FMTTYPE=image/png:https://turkishcommunitycentre.org/wp-content/uploads/2025/10/Screenshot-2025-10-03-at-10.43.15-PM.png
END:VEVENT
END:VCALENDAR