BEGIN:VCALENDAR
VERSION:2.0
PRODID:-//Turkish Community Centre - ECPv6.15.20//NONSGML v1.0//EN
CALSCALE:GREGORIAN
METHOD:PUBLISH
X-ORIGINAL-URL:https://turkishcommunitycentre.org/?lang=en
X-WR-CALDESC:Events for Turkish Community Centre
REFRESH-INTERVAL;VALUE=DURATION:PT1H
X-Robots-Tag:noindex
X-PUBLISHED-TTL:PT1H
BEGIN:VTIMEZONE
TZID:America/Toronto
BEGIN:DAYLIGHT
TZOFFSETFROM:-0500
TZOFFSETTO:-0400
TZNAME:EDT
DTSTART:20240310T070000
END:DAYLIGHT
BEGIN:STANDARD
TZOFFSETFROM:-0400
TZOFFSETTO:-0500
TZNAME:EST
DTSTART:20241103T060000
END:STANDARD
BEGIN:DAYLIGHT
TZOFFSETFROM:-0500
TZOFFSETTO:-0400
TZNAME:EDT
DTSTART:20250309T070000
END:DAYLIGHT
BEGIN:STANDARD
TZOFFSETFROM:-0400
TZOFFSETTO:-0500
TZNAME:EST
DTSTART:20251102T060000
END:STANDARD
BEGIN:DAYLIGHT
TZOFFSETFROM:-0500
TZOFFSETTO:-0400
TZNAME:EDT
DTSTART:20260308T070000
END:DAYLIGHT
BEGIN:STANDARD
TZOFFSETFROM:-0400
TZOFFSETTO:-0500
TZNAME:EST
DTSTART:20261101T060000
END:STANDARD
END:VTIMEZONE
BEGIN:VEVENT
DTSTART;VALUE=DATE:20250503
DTEND;VALUE=DATE:20251005
DTSTAMP:20260425T073758
CREATED:20251004T155542Z
LAST-MODIFIED:20251004T155542Z
UID:4549-1746230400-1759622399@turkishcommunitycentre.org
SUMMARY:National Sovereignty and Children’s Day Celebration
DESCRIPTION:On Saturday\, May 3\, 2025\, children will come together through dance and art performances from different cultures at the International Children’s Day – Multicultural Dance and Art Festival\, taking place in the heart of Toronto at Nathan Phillips Square. Organized under the leadership of the Turkish Society of Canada\, this vibrant event will bring us all together to celebrate children’s joy and the spirit of multicultural friendship.
URL:https://turkishcommunitycentre.org/event/national-sovereignty-and-childrens-day-celebration/?lang=en
LOCATION:Nathan Phillips Square\, 100 Queen St W\, Toronto\, Ontario\, M5H 2N3
ATTACH;FMTTYPE=image/png:https://turkishcommunitycentre.org/wp-content/uploads/2025/10/Screenshot-2025-10-04-at-11.52.25-AM.png
END:VEVENT
BEGIN:VEVENT
DTSTART;TZID=America/Toronto:20250914T110000
DTEND;TZID=America/Toronto:20250914T170000
DTSTAMP:20260425T073759
CREATED:20251004T003149Z
LAST-MODIFIED:20251004T003149Z
UID:4419-1757847600-1757869200@turkishcommunitycentre.org
SUMMARY:ConnecTR Turkish Community Fair
DESCRIPTION:CONNECTR – Turkish Community Fair is organized by Kanada Geyikleri and Katalog Kanada. \nKatalog Kanada is a mobile application that brings together Turkish and Turkish-speaking businesses across Canada\, providing instant access to services ranging from catering to legal support. \nKanada Geyikleri is a Turkish-language YouTube channel that offers informative content on immigration processes\, education\, employment\, and daily life. \nThe fair promotes lasting economic and cultural connections among Turkish\, Turkic\, and Canadian business communities. It provides businesses\, investors\, and cultural enthusiasts with a unique platform for discovery\, dialogue\, and collaboration. \n  \n 
URL:https://turkishcommunitycentre.org/event/connectr-turkish-community-fair/?lang=en
LOCATION:Venu Event Space\, 2800 Hwy 7\, Vaughan\, Toronto
ATTACH;FMTTYPE=image/jpeg:https://turkishcommunitycentre.org/wp-content/uploads/2025/10/IMG_9503.jpg
END:VEVENT
END:VCALENDAR