BEGIN:VCALENDAR
VERSION:2.0
PRODID:-//Turkish Community Centre - ECPv6.15.20//NONSGML v1.0//EN
CALSCALE:GREGORIAN
METHOD:PUBLISH
X-WR-CALNAME:Turkish Community Centre
X-ORIGINAL-URL:https://turkishcommunitycentre.org/?lang=en
X-WR-CALDESC:Events for Turkish Community Centre
REFRESH-INTERVAL;VALUE=DURATION:PT1H
X-Robots-Tag:noindex
X-PUBLISHED-TTL:PT1H
BEGIN:VTIMEZONE
TZID:America/Toronto
BEGIN:DAYLIGHT
TZOFFSETFROM:-0500
TZOFFSETTO:-0400
TZNAME:EDT
DTSTART:20240310T070000
END:DAYLIGHT
BEGIN:STANDARD
TZOFFSETFROM:-0400
TZOFFSETTO:-0500
TZNAME:EST
DTSTART:20241103T060000
END:STANDARD
BEGIN:DAYLIGHT
TZOFFSETFROM:-0500
TZOFFSETTO:-0400
TZNAME:EDT
DTSTART:20250309T070000
END:DAYLIGHT
BEGIN:STANDARD
TZOFFSETFROM:-0400
TZOFFSETTO:-0500
TZNAME:EST
DTSTART:20251102T060000
END:STANDARD
BEGIN:DAYLIGHT
TZOFFSETFROM:-0500
TZOFFSETTO:-0400
TZNAME:EDT
DTSTART:20260308T070000
END:DAYLIGHT
BEGIN:STANDARD
TZOFFSETFROM:-0400
TZOFFSETTO:-0500
TZNAME:EST
DTSTART:20261101T060000
END:STANDARD
END:VTIMEZONE
BEGIN:VEVENT
DTSTART;TZID=America/Toronto:20251206T110000
DTEND;TZID=America/Toronto:20251206T130000
DTSTAMP:20260424T235105
CREATED:20251023T060016Z
LAST-MODIFIED:20251203T152130Z
UID:4585-1765018800-1765026000@turkishcommunitycentre.org
SUMMARY:Oya Documentary
DESCRIPTION:Dear Distinguished Member of the Turkish-Speaking Community in Canada\, \nAs part of our mission to celebrate and preserve Turkish culture in Canada\, we are pleased to invite you to a screening of the documentary Oya. Directed by Sevinç Baloğlu\, the film tells the story of Gülbiye\, the only woman in her village who raises silkworms for silk thread\, and her efforts to teach her granddaughter Ada about silkworm farming and the rituals of oya. Meanwhile\, an oya collector searches for the history behind one of his cherished pieces\, revealing how these delicate works once gave voice to oppressed women and later became women’s symbol of empowerment and economic independence. Featured in the Vancouver Turkish Film Festival and selected for the 35th Ankara Film Festival\, the documentary will be screened on Saturday\, December 6\, 2025\, at 11:00 a.m. at Innis Town Hall\, University of Toronto. \nSevinç Baloğlu is an accomplished documentary filmmaker\, known for her works on disappearing cultures\, minority communities\, women’s rights\, and human history. Baloğlu graduated from Ankara University’s Faculty of Communication\, Department of Radio–Television–Cinema\, and started her career as co-scriptwriter and assistant director on the documentary “Three Days in Kula\,” winner of the Golden Orange Best Documentary Award in 1984. She went on to work at TRT and BRT\, and from 2000 to 2009 served as general manager of the Tursak Foundation\, writing and producing numerous documentaries. In 2009\, she established her own company\, SU Film. She collaborated on the Oya Project with Adnan Memiş\, a business leader actively involved in cultural initiatives and the creator of the Oya Collection that inspired the film. Following the screening\, they will join us for a Q&A session. \nFestival List:\n• International Documentary Festival of Ierapetra (Crete)\n• Madonie Film Festival\, Palermo (Italy)\n• Türkisches Filmfestival Frankfurt (Germany)\n• GIFF- International Goiania Film Festival (Brazil)\n• Florence International Film Festival (Italy)\n• Eastern Nigeria International Film Festival (Nigeria)\n• Vancouver Turkish Film Festival (Canada)\n• Milano Festival Del Cinema Premio Felix (Italy)\n• Chania Film Festival (Crete)\n• DokuBaku IDDF- International Premiere (Azerbaijan)\n• Antalya Film Festival (Turkey)\n• XX Muestra Internacional de Mujeres en el Cine y la Televisión – World Premiere (Mexico)\n• The Goiânia International Film Festival (Brazil)\n• Ankara Film Festival (Turkey) \nTrailer: Link \nTickets are available on Eventbrite: Link
URL:https://turkishcommunitycentre.org/event/oya-documentary/?lang=en
LOCATION:Innis Town Hal\, Innis College\, 2 Sussex Ave\, Toronto\, Ontario\, M5S 1J5\, Canada
ATTACH;FMTTYPE=image/png:https://turkishcommunitycentre.org/wp-content/uploads/2025/10/afis-2.png
END:VEVENT
END:VCALENDAR