BEGIN:VCALENDAR
VERSION:2.0
PRODID:-//Turkish Community Centre - ECPv6.15.20//NONSGML v1.0//EN
CALSCALE:GREGORIAN
METHOD:PUBLISH
X-WR-CALNAME:Turkish Community Centre
X-ORIGINAL-URL:https://turkishcommunitycentre.org/?lang=en
X-WR-CALDESC:Events for Turkish Community Centre
REFRESH-INTERVAL;VALUE=DURATION:PT1H
X-Robots-Tag:noindex
X-PUBLISHED-TTL:PT1H
BEGIN:VTIMEZONE
TZID:America/Toronto
BEGIN:DAYLIGHT
TZOFFSETFROM:-0500
TZOFFSETTO:-0400
TZNAME:EDT
DTSTART:20250309T070000
END:DAYLIGHT
BEGIN:STANDARD
TZOFFSETFROM:-0400
TZOFFSETTO:-0500
TZNAME:EST
DTSTART:20251102T060000
END:STANDARD
BEGIN:DAYLIGHT
TZOFFSETFROM:-0500
TZOFFSETTO:-0400
TZNAME:EDT
DTSTART:20260308T070000
END:DAYLIGHT
BEGIN:STANDARD
TZOFFSETFROM:-0400
TZOFFSETTO:-0500
TZNAME:EST
DTSTART:20261101T060000
END:STANDARD
BEGIN:DAYLIGHT
TZOFFSETFROM:-0500
TZOFFSETTO:-0400
TZNAME:EDT
DTSTART:20270314T070000
END:DAYLIGHT
BEGIN:STANDARD
TZOFFSETFROM:-0400
TZOFFSETTO:-0500
TZNAME:EST
DTSTART:20271107T060000
END:STANDARD
END:VTIMEZONE
BEGIN:VEVENT
DTSTART;TZID=America/Toronto:20260125T140000
DTEND;TZID=America/Toronto:20260125T160000
DTSTAMP:20260424T220938
CREATED:20251212T053913Z
LAST-MODIFIED:20260206T065311Z
UID:4777-1769349600-1769356800@turkishcommunitycentre.org
SUMMARY:Tax Obligations in Canada: Filing\, Credits\, and Audits
DESCRIPTION:The Turkish Community Heritage Centre is starting 2026 with a seminar focused on tax obligations in Canada. \nDo you have questions about tax returns\, tax credits\, or CRA audits in Canada? Whether you are new to the country or have been living here for years\, this seminar will cover many key tax topics in a clear and accessible way. \nOur speaker will be Licensed Public Accountant Jerry J. Copuroglu\, CPA\, CGA\, CFE\, TEP from JC Professional Corporation. During the seminar\, he will provide information and practical tips on: \n\nWho is required to file a tax return?\nRefundable and non-refundable tax credits\nReporting foreign income and assets\nCommon reasons for CRA audits & how to prepare\n\n  \nDate: Sunday\, January 25\, 2026 \nTime: 14:00–16:00 \nLocation: North Toronto Memorial Community Centre – Multipurpose Room \nThe seminar is free of charge\, open to everyone\, and will be held in Turkish. \nNo registration is required. \n  \nhttps://turkishcommunitycentre.org/wp-content/uploads/2025/12/WhatsApp-Video-2026-02-05-at-17.13.06.mp4
URL:https://turkishcommunitycentre.org/event/tax-obligations-in-canada-filing-credits-and-audits/?lang=en
LOCATION:North Toronto Memorial Community Centre\, 200 egligton avenue w\, Toronto
ATTACH;FMTTYPE=image/png:https://turkishcommunitycentre.org/wp-content/uploads/2025/12/222.png
END:VEVENT
END:VCALENDAR