BEGIN:VCALENDAR
VERSION:2.0
PRODID:-//Turkish Community Centre - ECPv6.15.20//NONSGML v1.0//EN
CALSCALE:GREGORIAN
METHOD:PUBLISH
X-ORIGINAL-URL:https://turkishcommunitycentre.org/?lang=en
X-WR-CALDESC:Events for Turkish Community Centre
REFRESH-INTERVAL;VALUE=DURATION:PT1H
X-Robots-Tag:noindex
X-PUBLISHED-TTL:PT1H
BEGIN:VTIMEZONE
TZID:America/Toronto
BEGIN:DAYLIGHT
TZOFFSETFROM:-0500
TZOFFSETTO:-0400
TZNAME:EDT
DTSTART:20250309T070000
END:DAYLIGHT
BEGIN:STANDARD
TZOFFSETFROM:-0400
TZOFFSETTO:-0500
TZNAME:EST
DTSTART:20251102T060000
END:STANDARD
BEGIN:DAYLIGHT
TZOFFSETFROM:-0500
TZOFFSETTO:-0400
TZNAME:EDT
DTSTART:20260308T070000
END:DAYLIGHT
BEGIN:STANDARD
TZOFFSETFROM:-0400
TZOFFSETTO:-0500
TZNAME:EST
DTSTART:20261101T060000
END:STANDARD
BEGIN:DAYLIGHT
TZOFFSETFROM:-0500
TZOFFSETTO:-0400
TZNAME:EDT
DTSTART:20270314T070000
END:DAYLIGHT
BEGIN:STANDARD
TZOFFSETFROM:-0400
TZOFFSETTO:-0500
TZNAME:EST
DTSTART:20271107T060000
END:STANDARD
END:VTIMEZONE
BEGIN:VEVENT
DTSTART;TZID=America/Toronto:20260306T183000
DTEND;TZID=America/Toronto:20260306T233000
DTSTAMP:20260424T185322
CREATED:20251212T193338Z
LAST-MODIFIED:20260222T054247Z
UID:4800-1772821800-1772839800@turkishcommunitycentre.org
SUMMARY:9th Women’s Day Dinner
DESCRIPTION:The 9th Women’s Day Dinner\, organized in support of the Turkish Community Centre\, whose volunteers are mostly women\, will take place on Friday\, March 6th\, 2026\, from 6:30 pm to 11:30 pm at one of Toronto’s most beautiful venues\, The Eglinton Grand. \nWe look forward to coming together and strengthening our sense of solidarity at this special evening filled with live music\, delicious food\, and a raffle with surprise gifts. The more of us there are\, the better! \nTickets are $150\, with an early bird price of $130 available until February 22nd. \nPlease see the poster for full details and contact information. \nOur menu is as follows. \n \nOur music poster is as follows. \n \n  \nSponsors and Donors
URL:https://turkishcommunitycentre.org/event/9th-womens-day-dinner/?lang=en
ATTACH;FMTTYPE=image/png:https://turkishcommunitycentre.org/wp-content/uploads/2025/12/Screenshot-2025-12-29-at-5.08.15-PM.png
END:VEVENT
END:VCALENDAR