BEGIN:VCALENDAR
VERSION:2.0
PRODID:-//Turkish Community Centre - ECPv6.15.20//NONSGML v1.0//EN
CALSCALE:GREGORIAN
METHOD:PUBLISH
X-WR-CALNAME:Turkish Community Centre
X-ORIGINAL-URL:https://turkishcommunitycentre.org/?lang=en
X-WR-CALDESC:Events for Turkish Community Centre
REFRESH-INTERVAL;VALUE=DURATION:PT1H
X-Robots-Tag:noindex
X-PUBLISHED-TTL:PT1H
BEGIN:VTIMEZONE
TZID:America/Toronto
BEGIN:DAYLIGHT
TZOFFSETFROM:-0500
TZOFFSETTO:-0400
TZNAME:EDT
DTSTART:20250309T070000
END:DAYLIGHT
BEGIN:STANDARD
TZOFFSETFROM:-0400
TZOFFSETTO:-0500
TZNAME:EST
DTSTART:20251102T060000
END:STANDARD
BEGIN:DAYLIGHT
TZOFFSETFROM:-0500
TZOFFSETTO:-0400
TZNAME:EDT
DTSTART:20260308T070000
END:DAYLIGHT
BEGIN:STANDARD
TZOFFSETFROM:-0400
TZOFFSETTO:-0500
TZNAME:EST
DTSTART:20261101T060000
END:STANDARD
BEGIN:DAYLIGHT
TZOFFSETFROM:-0500
TZOFFSETTO:-0400
TZNAME:EDT
DTSTART:20270314T070000
END:DAYLIGHT
BEGIN:STANDARD
TZOFFSETFROM:-0400
TZOFFSETTO:-0500
TZNAME:EST
DTSTART:20271107T060000
END:STANDARD
END:VTIMEZONE
BEGIN:VEVENT
DTSTART;TZID=America/Toronto:20260503T020000
DTEND;TZID=America/Toronto:20260503T160000
DTSTAMP:20260425T100938
CREATED:20260326T171956Z
LAST-MODIFIED:20260419T033816Z
UID:4974-1777773600-1777824000@turkishcommunitycentre.org
SUMMARY:Ontario's Job Market Today
DESCRIPTION:In our free seminar\, speaker Esin Turhan will share insights on the 2026 job market\, current employment trends\, and the impact of artificial intelligence on the labour market. Light refreshments will be provided\, and participants who bring their resumes will also have them reviewed. \nEsin Turhan is a Toronto-based career coach with a Master’s in International Development. She specializes in upskilling programs that support newcomers and job seekers in navigating the Canadian labour market and career pivots. Through her company\, First Sight Canada\, she provides 1:1 coaching while working closely with corporate partners in tech and finance to advance workforce development through career-focused volunteering and inclusive hiring initiatives. She has led over 100 job search and career development sessions\, connecting talent with industry. \nJIAS Toronto will have an information desk at the seminar.
URL:https://turkishcommunitycentre.org/event/job-search-in-toronto/?lang=en
ATTACH;FMTTYPE=image/png:https://turkishcommunitycentre.org/wp-content/uploads/2026/03/1.png
END:VEVENT
BEGIN:VEVENT
DTSTART;TZID=America/Toronto:20260604T190000
DTEND;TZID=America/Toronto:20260604T200000
DTSTAMP:20260425T100938
CREATED:20260414T203256Z
LAST-MODIFIED:20260419T034030Z
UID:5072-1780599600-1780603200@turkishcommunitycentre.org
SUMMARY:Energy Saving Workshop with Bill Reading
DESCRIPTION:Kambo Energy Group’s Empower Me® program is Canada’s only energy education initiative created for and delivered by the diverse\, multilingual communities it serves. This multi-award-winning program breaks language and trust barriers by engaging communities in program design and delivery\, creating opportunities to co-develop tailored solutions that benefit communities and funders alike. For 13 years\, Empower Me has been connecting underserved households across BC\, Alberta\, and Washington State with essential energy and utility information. \nThe free workshop will offer residents in the Greater Toronto and Hamilton Area practical tips for living more efficiently and sustainably\, helping them reduce energy use at home and lower their monthly bills.
URL:https://turkishcommunitycentre.org/event/energy-saving-workshop-with-bill-reading/?lang=en
ATTACH;FMTTYPE=image/jpeg:https://turkishcommunitycentre.org/wp-content/uploads/2026/04/WhatsApp-Image-2026-04-18-at-23.39.41.jpeg
END:VEVENT
END:VCALENDAR