BEGIN:VCALENDAR
VERSION:2.0
PRODID:-//Turkish Community Centre - ECPv6.15.20//NONSGML v1.0//EN
CALSCALE:GREGORIAN
METHOD:PUBLISH
X-WR-CALNAME:Turkish Community Centre
X-ORIGINAL-URL:https://turkishcommunitycentre.org/?lang=en
X-WR-CALDESC:Events for Turkish Community Centre
REFRESH-INTERVAL;VALUE=DURATION:PT1H
X-Robots-Tag:noindex
X-PUBLISHED-TTL:PT1H
BEGIN:VTIMEZONE
TZID:America/Toronto
BEGIN:DAYLIGHT
TZOFFSETFROM:-0500
TZOFFSETTO:-0400
TZNAME:EDT
DTSTART:20200308T070000
END:DAYLIGHT
BEGIN:STANDARD
TZOFFSETFROM:-0400
TZOFFSETTO:-0500
TZNAME:EST
DTSTART:20201101T060000
END:STANDARD
BEGIN:DAYLIGHT
TZOFFSETFROM:-0500
TZOFFSETTO:-0400
TZNAME:EDT
DTSTART:20210314T070000
END:DAYLIGHT
BEGIN:STANDARD
TZOFFSETFROM:-0400
TZOFFSETTO:-0500
TZNAME:EST
DTSTART:20211107T060000
END:STANDARD
BEGIN:DAYLIGHT
TZOFFSETFROM:-0500
TZOFFSETTO:-0400
TZNAME:EDT
DTSTART:20220313T070000
END:DAYLIGHT
BEGIN:STANDARD
TZOFFSETFROM:-0400
TZOFFSETTO:-0500
TZNAME:EST
DTSTART:20221106T060000
END:STANDARD
BEGIN:DAYLIGHT
TZOFFSETFROM:-0500
TZOFFSETTO:-0400
TZNAME:EDT
DTSTART:20230312T070000
END:DAYLIGHT
BEGIN:STANDARD
TZOFFSETFROM:-0400
TZOFFSETTO:-0500
TZNAME:EST
DTSTART:20231105T060000
END:STANDARD
BEGIN:DAYLIGHT
TZOFFSETFROM:-0500
TZOFFSETTO:-0400
TZNAME:EDT
DTSTART:20240310T070000
END:DAYLIGHT
BEGIN:STANDARD
TZOFFSETFROM:-0400
TZOFFSETTO:-0500
TZNAME:EST
DTSTART:20241103T060000
END:STANDARD
BEGIN:DAYLIGHT
TZOFFSETFROM:-0500
TZOFFSETTO:-0400
TZNAME:EDT
DTSTART:20250309T070000
END:DAYLIGHT
BEGIN:STANDARD
TZOFFSETFROM:-0400
TZOFFSETTO:-0500
TZNAME:EST
DTSTART:20251102T060000
END:STANDARD
BEGIN:DAYLIGHT
TZOFFSETFROM:-0500
TZOFFSETTO:-0400
TZNAME:EDT
DTSTART:20260308T070000
END:DAYLIGHT
BEGIN:STANDARD
TZOFFSETFROM:-0400
TZOFFSETTO:-0500
TZNAME:EST
DTSTART:20261101T060000
END:STANDARD
END:VTIMEZONE
BEGIN:VTIMEZONE
TZID:UTC
BEGIN:STANDARD
TZOFFSETFROM:+0000
TZOFFSETTO:+0000
TZNAME:UTC
DTSTART:20210101T000000
END:STANDARD
END:VTIMEZONE
BEGIN:VEVENT
DTSTART;TZID=America/Toronto:20250307T183000
DTEND;TZID=America/Toronto:20250307T230000
DTSTAMP:20260424T173725
CREATED:20251004T024227Z
LAST-MODIFIED:20251004T154119Z
UID:4468-1741372200-1741388400@turkishcommunitycentre.org
SUMMARY:Women's Day Dinner
DESCRIPTION:The Turkish Community Heritage Centre of Canada\, made up mostly of women volunteers\, organizes an annual fundraising dinner for International Women’s Day. On this special evening dedicated to women\, the gentlemen look after the children. The night features live music\, delicious food\, and exciting raffles.
URL:https://turkishcommunitycentre.org/event/womens-day-dinner/?lang=en
LOCATION:ON
ATTACH;FMTTYPE=image/jpeg:https://turkishcommunitycentre.org/wp-content/uploads/2025/10/IMG_9340.jpg
END:VEVENT
BEGIN:VEVENT
DTSTART;TZID=America/Toronto:20250119T150000
DTEND;TZID=America/Toronto:20250119T170000
DTSTAMP:20260424T173725
CREATED:20251004T023839Z
LAST-MODIFIED:20251004T023839Z
UID:4464-1737298800-1737306000@turkishcommunitycentre.org
SUMMARY:Seminar on Inheritance and Law with Filiz Burmalı from Sun Life and Demet Altunbulaklı from Insight Law
DESCRIPTION:The Turkish Community Centre of Canada is starting its 2025 events with an informational seminar. The event will take place on January 19\, 2025\, at the North Toronto Memorial Community Centre and will cover topics such as life insurance and will writing. Experts Filiz Burmalı and Demet Altunbulaklı will provide insights and answer questions. Our seminar is free and open to the public. No registration is required. The event will be held in Turkish.
URL:https://turkishcommunitycentre.org/event/seminar-on-inheritance-and-law-with-filiz-burmali-from-sun-life-and-demet-altunbulakli-from-insight-law/?lang=en
LOCATION:North Toronto Memorial Community Centre\, 200 egligton avenue w\, Toronto
ATTACH;FMTTYPE=image/png:https://turkishcommunitycentre.org/wp-content/uploads/2025/10/Screenshot-2025-10-03-at-10.37.15-PM.png
END:VEVENT
BEGIN:VEVENT
DTSTART;TZID=America/Toronto:20241103T140000
DTEND;TZID=America/Toronto:20241103T160000
DTSTAMP:20260424T173725
CREATED:20251004T021313Z
LAST-MODIFIED:20251004T021313Z
UID:4460-1730642400-1730649600@turkishcommunitycentre.org
SUMMARY:Republic of Turkey 101st Anniversary Celebration and Day of Commemoration of Atatürk
DESCRIPTION:We are organizing a special Republic Day celebration and Atatürk Commemoration Day for children in Toronto. Let’s remember our national anthems together — we look forward to seeing you with your children.
URL:https://turkishcommunitycentre.org/event/republic-of-turkey-101st-anniversary-celebration-and-day-of-commemoration-of-ataturk/?lang=en
LOCATION:265 Ridley Blvd. Party Room Avenue Road & Wilson Avenue
ATTACH;FMTTYPE=image/png:https://turkishcommunitycentre.org/wp-content/uploads/2025/10/ataturk.png
END:VEVENT
BEGIN:VEVENT
DTSTART;TZID=America/Toronto:20241019T020000
DTEND;TZID=America/Toronto:20241019T160000
DTSTAMP:20260424T173725
CREATED:20251004T020310Z
LAST-MODIFIED:20251004T020358Z
UID:4455-1729303200-1729353600@turkishcommunitycentre.org
SUMMARY:Informational Seminar for Our Volunteers: Migration\, Integration\, and Technology
DESCRIPTION:In this seminar\, Cansu Ekmekçioğlu will share the findings of her doctoral dissertation. The session\, which will be especially beneficial for our volunteers providing orientation services to newcomers\, will be held in Turkish and is open to the public. We look forward to welcoming anyone interested.
URL:https://turkishcommunitycentre.org/event/4455/?lang=en
LOCATION:ON
ATTACH;FMTTYPE=image/png:https://turkishcommunitycentre.org/wp-content/uploads/2025/10/Screenshot-2025-10-03-at-9.57.28-PM.png
END:VEVENT
BEGIN:VEVENT
DTSTART;TZID=America/Toronto:20241006T140000
DTEND;TZID=America/Toronto:20241006T160000
DTSTAMP:20260424T173725
CREATED:20251004T020105Z
LAST-MODIFIED:20251004T020105Z
UID:4451-1728223200-1728230400@turkishcommunitycentre.org
SUMMARY:Job Search Seminar in Toronto
DESCRIPTION:Our annual information seminar for newly arrived Turkish-speaking immigrants will feature Alev Hinçer as this year’s guest speaker. Alev Hinçer has been working in the field of human resources in Canada for over 35 years. We are very excited that she will be sharing her extensive experience with us. We invite you to join our event\, share in our excitement\, and gain valuable insights to better navigate your job search journey.
URL:https://turkishcommunitycentre.org/event/job-search-seminar-in-toronto/?lang=en
LOCATION:Toronto Public Library\, Northern District Branch\, 40 orchard view blvd\, gwen liu meeting room 200
ATTACH;FMTTYPE=image/jpeg:https://turkishcommunitycentre.org/wp-content/uploads/2025/10/IMG_9506.jpg
END:VEVENT
BEGIN:VEVENT
DTSTART;TZID=America/Toronto:20240614T183000
DTEND;TZID=America/Toronto:20240614T220000
DTSTAMP:20260424T173725
CREATED:20251004T013522Z
LAST-MODIFIED:20251004T014549Z
UID:4447-1718389800-1718402400@turkishcommunitycentre.org
SUMMARY:A TCHCC Youth İnitiative Event
DESCRIPTION:Join the TCHCC Youth Initiative for the Inside-Out 2 Movie Night! This fun event is open to youth ages 12–16. Watch the movie\, join the discussion afterwards\, and make new friends. Don’t miss out on this great opportunity!
URL:https://turkishcommunitycentre.org/event/a-tchcc-youth-initiative-event/?lang=en
LOCATION:Fairwell Mall Cineplex\, 1800 Sheppard Ave E Unit Y007\, North York\, Toronto\, Ontario
ATTACH;FMTTYPE=image/png:https://turkishcommunitycentre.org/wp-content/uploads/2025/10/Screenshot-2025-10-03-at-8.59.59-PM.png
END:VEVENT
BEGIN:VEVENT
DTSTART;TZID=America/Toronto:20240504T100000
DTEND;TZID=America/Toronto:20240504T120000
DTSTAMP:20260424T173725
CREATED:20251004T004503Z
LAST-MODIFIED:20251004T004503Z
UID:4440-1714816800-1714824000@turkishcommunitycentre.org
SUMMARY:Face Yoga Session
DESCRIPTION:Have you ever tried face yoga? Join us on Saturday morning for a 1-hour Zoom session to learn basic face yoga exercises and which areas of the face they target.
URL:https://turkishcommunitycentre.org/event/face-yoga-session/?lang=en
LOCATION:ON
ATTACH;FMTTYPE=image/jpeg:https://turkishcommunitycentre.org/wp-content/uploads/2025/10/IMG_9504.jpg
END:VEVENT
BEGIN:VEVENT
DTSTART;TZID=America/Toronto:20240218T140000
DTEND;TZID=America/Toronto:20240218T160000
DTSTAMP:20260424T173725
CREATED:20251005T024711Z
LAST-MODIFIED:20251005T024810Z
UID:4560-1708264800-1708272000@turkishcommunitycentre.org
SUMMARY:Healthy Retirement and Financial Planning for Families
DESCRIPTION:We invite you to our informational seminar targeting families and seniors. It is free\, in Turkish\, open to everyone\, and no registration is required.
URL:https://turkishcommunitycentre.org/event/healthy-retirement-and-financial-planning-for-families/?lang=en
LOCATION:Toronto Public Library\, Northern District Branch\, 40 orchard view blvd\, gwen liu meeting room 200
ATTACH;FMTTYPE=image/png:https://turkishcommunitycentre.org/wp-content/uploads/2025/10/Screenshot-2025-10-04-at-10.44.50-PM.png
END:VEVENT
BEGIN:VEVENT
DTSTART;TZID=America/Toronto:20231210T140000
DTEND;TZID=America/Toronto:20231210T160000
DTSTAMP:20260424T173725
CREATED:20251004T162843Z
LAST-MODIFIED:20251004T162910Z
UID:4557-1702216800-1702224000@turkishcommunitycentre.org
SUMMARY:Republic of Türkiye 100th Birthday Party
DESCRIPTION:To celebrate the 100th birthday of the Republic of Türkiye\, we invite you to our birthday party on Sunday\, December 10\, from 2:00 to 4:00 p.m. at the Toronto Northern District Library (Room 200\, 40 Orchard Boulevard\, Toronto\, ON M4R 1B9). Children will enjoy a fun-filled day with musical chairs\, temporary tattoos\, photo booths\, birthday cake\, coloring activities\, and snacks. The event is free of charge\, and donations are gladly accepted with receipts provided. We kindly ask those who wish to recite a poem to come prepared.
URL:https://turkishcommunitycentre.org/event/republic-of-turkiye-100th-birthday-party/?lang=en
LOCATION:ON
ATTACH;FMTTYPE=image/png:https://turkishcommunitycentre.org/wp-content/uploads/2025/10/Screenshot-2025-10-04-at-12.22.39-PM.png
END:VEVENT
BEGIN:VEVENT
DTSTART;TZID=America/Toronto:20231029T180000
DTEND;TZID=America/Toronto:20231029T220000
DTSTAMP:20260424T173725
CREATED:20251004T025930Z
LAST-MODIFIED:20251004T030340Z
UID:4492-1698602400-1698616800@turkishcommunitycentre.org
SUMMARY:October 29 Republic Day – 100th Anniversary
DESCRIPTION:You are invited to the Republic Ball to celebrate the 100th anniversary of the Republic of Türkiye with great enthusiasm on Sunday\, October 29\, 2023\, at 6:00 p.m. at The Guild Inn Estate in Scarborough. This special evening\, organized in collaboration with TEPAC\, the Turkish Folklore Society of Canada\, and the Turkish Community Heritage Centre of Canada\, will bring us together to celebrate the 100th anniversary of our Republic.
URL:https://turkishcommunitycentre.org/event/october-29-republic-day-100th-anniversary/?lang=en
LOCATION:The Guild Inn Estate\, 201 Guild Inn Estate\, Scarborough\, Toronto\, Canada
ATTACH;FMTTYPE=image/png:https://turkishcommunitycentre.org/wp-content/uploads/2025/10/Screenshot-2025-10-03-at-10.58.07-PM.png
END:VEVENT
BEGIN:VEVENT
DTSTART;TZID=America/Toronto:20230506T100000
DTEND;TZID=America/Toronto:20230506T170000
DTSTAMP:20260424T173725
CREATED:20251004T025728Z
LAST-MODIFIED:20251004T030417Z
UID:4488-1683367200-1683392400@turkishcommunitycentre.org
SUMMARY:Worldwide Run & Walk
DESCRIPTION:On May 6\, at St. Thomas More Catholic School\, we will come together for the Worldwide Run & Walk event to support children in Türkiye who lost their limbs in the earthquake\, helping them run again. You can join this meaningful act of solidarity by participating in the 3K/5K run and walk\, which will start at 10:00 a.m.
URL:https://turkishcommunitycentre.org/event/worldwide-run-walk/?lang=en
LOCATION:St. Thomas More Catholic School\, 2300 Ellesmere Rd\, Scarborough\, Toronto\, Canada
ATTACH;FMTTYPE=image/png:https://turkishcommunitycentre.org/wp-content/uploads/2025/10/Screenshot-2025-10-03-at-10.55.11-PM.png
END:VEVENT
BEGIN:VEVENT
DTSTART;TZID=America/Toronto:20230430T140000
DTEND;TZID=America/Toronto:20230430T163000
DTSTAMP:20260424T173725
CREATED:20251004T152922Z
LAST-MODIFIED:20251004T153437Z
UID:4541-1682863200-1682872200@turkishcommunitycentre.org
SUMMARY:Celebrating National Sovereignty and Children’s Day
DESCRIPTION:To celebrate April 23 National Sovereignty and Children’s Day\, we invite you to a fun and educational creative drama event with our children! In collaboration with the Great Big Theatre Company\, this special day will give children the chance to showcase their creativity and imagination on stage. The event will include storytelling\, book exchange\, and engaging activities. Participation is free\, but space is limited.
URL:https://turkishcommunitycentre.org/event/celebrating-national-sovereignty-and-childrens-day/?lang=en
LOCATION:Northern District Library\, 40 Orchard View Blvd\, Toronto\, ON\, Canada
ATTACH;FMTTYPE=image/png:https://turkishcommunitycentre.org/wp-content/uploads/2025/10/Screenshot-2025-10-04-at-11.11.23-AM.png
END:VEVENT
BEGIN:VEVENT
DTSTART;TZID=America/Toronto:20230325T090000
DTEND;TZID=America/Toronto:20230325T130000
DTSTAMP:20260424T173725
CREATED:20251004T030152Z
LAST-MODIFIED:20251004T030448Z
UID:4496-1679734800-1679749200@turkishcommunitycentre.org
SUMMARY:Fundraiser for Earthquake Victims
DESCRIPTION:The Turkish Community Heritage Centre of Canada has launched a donation campaign to support the rebuilding of areas affected by the earthquake in Türkiye. Tax-deductible receipts are available for donations of 50 CAD or more. \ndonations@turkishcommunitycentre.org \nWe are organizing various events to promote our donation campaign. This time\, there will also be a silent auction and fun activities for children. We invite you to join us on March 25\, 2023\, from 9:00 a.m. to 1:00 p.m. at Evergreen Brick Works.
URL:https://turkishcommunitycentre.org/event/fundraiser-for-earthquake-victims/?lang=en
LOCATION:Evergreen Brick Works\, 550 Bayview Ave\, Toronto
ATTACH;FMTTYPE=image/png:https://turkishcommunitycentre.org/wp-content/uploads/2025/10/Screenshot-2025-10-03-at-10.59.46-PM.png
END:VEVENT
BEGIN:VEVENT
DTSTART;TZID=America/Toronto:20230129T140000
DTEND;TZID=America/Toronto:20230129T160000
DTSTAMP:20260424T173725
CREATED:20251004T040311Z
LAST-MODIFIED:20251004T040311Z
UID:4529-1675000800-1675008000@turkishcommunitycentre.org
SUMMARY:Job Search for Newcomers
DESCRIPTION:The Turkish Community Centre continues to support the integration of newly arrived Turkish-speaking individuals into Canadian society. The event will include seminars and workshops\, so don’t forget to bring your résumé and be prepared with a short self-introduction.
URL:https://turkishcommunitycentre.org/event/job-search-for-newcomers/?lang=en
LOCATION:Northern District Library\, 40 Orchard View Blvd\, Toronto\, ON\, Canada
ATTACH;FMTTYPE=image/jpeg:https://turkishcommunitycentre.org/wp-content/uploads/2025/10/Image-1.jpg
END:VEVENT
BEGIN:VEVENT
DTSTART;TZID=America/Toronto:20221030T143000
DTEND;TZID=America/Toronto:20221030T163000
DTSTAMP:20260424T173725
CREATED:20251004T144719Z
LAST-MODIFIED:20251004T144719Z
UID:4522-1667140200-1667147400@turkishcommunitycentre.org
SUMMARY:Commemoration of Atatürk and Republic Day Celebration
DESCRIPTION:You are invited to our first in-person event since the beginning of the COVID pandemic!
URL:https://turkishcommunitycentre.org/event/commemoration-of-ataturk-and-republic-day-celebration/?lang=en
LOCATION:ON
ATTACH;FMTTYPE=image/png:https://turkishcommunitycentre.org/wp-content/uploads/2025/10/Screenshot-2025-10-04-at-10.43.56-AM.png
END:VEVENT
BEGIN:VEVENT
DTSTART;TZID=UTC:20220227T130000
DTEND;TZID=UTC:20220227T140000
DTSTAMP:20260424T173725
CREATED:20220226T001721Z
LAST-MODIFIED:20251004T024715Z
UID:3770-1645966800-1645970400@turkishcommunitycentre.org
SUMMARY:Education Opportunities-Webinar
DESCRIPTION:Our free seminar is open to everyone interested in adult education programs\, new career opportunities\, and government supports available in Ontario. The session will be presented in English by Zineb Hamamiou from PCHS. You can access the Zoom link through the poster.
URL:https://turkishcommunitycentre.org/event/education-orientation/?lang=en
LOCATION:ON
ATTACH;FMTTYPE=image/png:https://turkishcommunitycentre.org/wp-content/uploads/2022/02/education.png
END:VEVENT
BEGIN:VEVENT
DTSTART;TZID=America/Toronto:20210619T140000
DTEND;TZID=America/Toronto:20210619T150000
DTSTAMP:20260424T173725
CREATED:20251004T040059Z
LAST-MODIFIED:20251004T040059Z
UID:4523-1624111200-1624114800@turkishcommunitycentre.org
SUMMARY:Eat Healthy Breath Deeply
DESCRIPTION:Our guest for the talk on food groups that strengthen our immunity during the pandemic will be Meziyet Yücel\, and our guest for the discussion on proper breathing techniques will be Demet Ergin Boran.
URL:https://turkishcommunitycentre.org/event/eat-healthy-breath-deeply/?lang=en
LOCATION:ON
ATTACH;FMTTYPE=image/png:https://turkishcommunitycentre.org/wp-content/uploads/2025/10/Screenshot-2025-10-03-at-11.59.33-PM.png
END:VEVENT
BEGIN:VEVENT
DTSTART;TZID=America/Toronto:20210612T140000
DTEND;TZID=America/Toronto:20210612T153000
DTSTAMP:20260424T173725
CREATED:20251004T033654Z
LAST-MODIFIED:20251004T033654Z
UID:4518-1623506400-1623511800@turkishcommunitycentre.org
SUMMARY:Children’s Yoga and Mindfulness by Yoga4kids and Hip-Hop by Groove School of Dance
DESCRIPTION:The Turkish Community Heritage Centre of Canada invites you to a special event on June 12\, 2021\, from 2:00–3:00 p.m. The program\, titled “Yoga and Mindfulness for Children\,” will feature Shery LeBlanc from Yoga4kids\, who will offer children a fun and educational experience in yoga and mindfulness. To join the event via Zoom\, simply email info@turkishcommunitycentre.org. We would be delighted to have you with us at this session\, which will support both the physical and mental well-being of children.
URL:https://turkishcommunitycentre.org/event/childrens-yoga-and-mindfulness-by-yoga4kids-and-hip-hop-by-groove-school-of-dance/?lang=en
LOCATION:ON
ATTACH;FMTTYPE=image/png:https://turkishcommunitycentre.org/wp-content/uploads/2025/10/Screenshot-2025-10-03-at-11.35.01-PM.png
END:VEVENT
BEGIN:VEVENT
DTSTART;TZID=America/Toronto:20210530T140000
DTEND;TZID=America/Toronto:20210530T150000
DTSTAMP:20260424T173725
CREATED:20251004T032602Z
LAST-MODIFIED:20251004T032602Z
UID:4507-1622383200-1622386800@turkishcommunitycentre.org
SUMMARY:Having Fun at the Time of Covid
DESCRIPTION:The Turkish Community Heritage Centre of Canada invites the entire community to the “Family Event” on May 30\, 2021\, from 2:00–3:00 p.m. \nIn collaboration with ParticiACTION\, Gulin Aydın will speak on “Having Fun During the Pandemic\,” and Frank Kakarelis will share insights on “Breathing and Mindfulness.” By joining this online event\, you can enjoy time with your family and gain new perspectives on healthy living. For the Zoom link\, please email info@turkishcommunitycentre.org.
URL:https://turkishcommunitycentre.org/event/having-fun-at-the-time-of-covid/?lang=en
LOCATION:ON
ATTACH;FMTTYPE=image/png:https://turkishcommunitycentre.org/wp-content/uploads/2025/10/Screenshot-2025-10-03-at-11.23.30-PM.png
END:VEVENT
BEGIN:VEVENT
DTSTART;TZID=America/Toronto:20210524T140000
DTEND;TZID=America/Toronto:20210524T150000
DTSTAMP:20260424T173725
CREATED:20251004T033043Z
LAST-MODIFIED:20251004T033144Z
UID:4513-1621864800-1621868400@turkishcommunitycentre.org
SUMMARY:Celebrating Commemoration of Atatürk\, Youth and Sports Day
DESCRIPTION:You are invited to our Commemoration of Atatürk\, Youth and Sports Day celebration on May 24\, 2021\, from 2:00–3:00 p.m. (Zoom). The program includes a talk titled “The Impact of the Past Year on Youth — By Youth” and a hip-hop performance by Groove School of Dance. To receive the Zoom link\, please email info@turkishcommunitycentre.org.
URL:https://turkishcommunitycentre.org/event/celebrating-commemoration-of-ataturk-youth-and-sports-day/?lang=en
LOCATION:ON
ATTACH;FMTTYPE=image/png:https://turkishcommunitycentre.org/wp-content/uploads/2025/10/Screenshot-2025-10-03-at-11.28.21-PM.png
END:VEVENT
BEGIN:VEVENT
DTSTART;TZID=America/Toronto:20210308T103000
DTEND;TZID=America/Toronto:20210308T233000
DTSTAMP:20260424T173725
CREATED:20251004T031805Z
LAST-MODIFIED:20251004T031858Z
UID:4501-1615199400-1615246200@turkishcommunitycentre.org
SUMMARY:Building Resilience During Covid-19 and Gender-based Violence
DESCRIPTION:The Turkish Community Heritage Centre of Canada invites the entire community to the “Family Event” on May 30\, 2021\, from 2:00–3:00 p.m. \nIn collaboration with ParticiACTION\, Gulin Aydın will share insights on “Having Fun During the Pandemic\,” and Frank Kakarelis will speak about “Breathing and Mindfulness.” By joining this online event\, you can enjoy quality time with your family and gain new perspectives on healthy living. For the Zoom link\, please email info@turkishcommunitycentre.org.
URL:https://turkishcommunitycentre.org/event/building-resilience-during-covid-19-and-gender-based-violence/?lang=en
LOCATION:ON
ATTACH;FMTTYPE=image/png:https://turkishcommunitycentre.org/wp-content/uploads/2025/10/Screenshot-2025-10-03-at-11.02.27-PM.png
END:VEVENT
END:VCALENDAR