BEGIN:VCALENDAR
VERSION:2.0
PRODID:-//Turkish Community Centre - ECPv6.15.20//NONSGML v1.0//EN
CALSCALE:GREGORIAN
METHOD:PUBLISH
X-WR-CALNAME:Turkish Community Centre
X-ORIGINAL-URL:https://turkishcommunitycentre.org/?lang=en
X-WR-CALDESC:Events for Turkish Community Centre
REFRESH-INTERVAL;VALUE=DURATION:PT1H
X-Robots-Tag:noindex
X-PUBLISHED-TTL:PT1H
BEGIN:VTIMEZONE
TZID:America/Toronto
BEGIN:DAYLIGHT
TZOFFSETFROM:-0500
TZOFFSETTO:-0400
TZNAME:EDT
DTSTART:20240310T070000
END:DAYLIGHT
BEGIN:STANDARD
TZOFFSETFROM:-0400
TZOFFSETTO:-0500
TZNAME:EST
DTSTART:20241103T060000
END:STANDARD
BEGIN:DAYLIGHT
TZOFFSETFROM:-0500
TZOFFSETTO:-0400
TZNAME:EDT
DTSTART:20250309T070000
END:DAYLIGHT
BEGIN:STANDARD
TZOFFSETFROM:-0400
TZOFFSETTO:-0500
TZNAME:EST
DTSTART:20251102T060000
END:STANDARD
BEGIN:DAYLIGHT
TZOFFSETFROM:-0500
TZOFFSETTO:-0400
TZNAME:EDT
DTSTART:20260308T070000
END:DAYLIGHT
BEGIN:STANDARD
TZOFFSETFROM:-0400
TZOFFSETTO:-0500
TZNAME:EST
DTSTART:20261101T060000
END:STANDARD
END:VTIMEZONE
BEGIN:VEVENT
DTSTART;TZID=America/Toronto:20251115T110000
DTEND;TZID=America/Toronto:20251115T130000
DTSTAMP:20260424T235102
CREATED:20251023T155934Z
LAST-MODIFIED:20260206T070315Z
UID:4593-1763204400-1763211600@turkishcommunitycentre.org
SUMMARY:Commemoration of Atatürk and 102nd Republic Day Celebration
DESCRIPTION:COMMEMORATION OF ATATÜRK AND 102ND REPUBLIC DAY CELEBRATION\nJoin us to commemorate Atatürk and celebrate the 102nd Anniversary of the Turkish Republic!\nEnjoy a joyful day filled with games\, tattoos\, flags\, and snacks.\n\n\n Saturday\, November 15 | 11:00 AM-1.00 PM\n Edithvale Community Centre-Multipurpose Room-Event Hall\n131 Finch Ave W\, North York\, M2N 2H8\n\n\n\n\n\n\n\n\n\n\n\nThe event we held to commemorate Atatürk and celebrate the 102nd anniversary of the Republic was truly enjoyable for us. With face painting\, children’s games\, and live music\, our participants not only had fun with their children but also came together to strengthen our sense of community. The children’s energy and the performances on stage added vibrancy to our event.
URL:https://turkishcommunitycentre.org/event/4593/?lang=en
ATTACH;FMTTYPE=image/jpeg:https://turkishcommunitycentre.org/wp-content/uploads/2025/10/577768088_1249118403915826_85387714221181580_n.jpg
END:VEVENT
END:VCALENDAR